BEGIN:VCALENDAR
VERSION:2.0
PRODID:-//Plone.org//NONSGML plone.app.event//EN
X-WR-TIMEZONE:US/Pacific
BEGIN:VEVENT
SUMMARY:Climbing Conditioner - Howe Stairs
DTSTART;VALUE=DATE:20240320
DTEND;VALUE=DATE:20240321
DTSTAMP;VALUE=DATE-TIME:20260421T111428Z
UID:bbabf22314a54faf8178eaefe7a0e3ed
CATEGORIES:Climbing
DESCRIPTION:Informal conditioning series to run until end of June. Heavy p
 acks Mar to May\; and then leg stretching to taper off in June.
LOCATION:Howe Stairs
URL:https://www.mountaineers.org/locations-lodges/seattle-branch/committee
 s/seattle-climbing-committee/seminars-clinics/climbing-conditioner-howe-st
 airs-24
END:VEVENT
END:VCALENDAR
