BEGIN:VCALENDAR
VERSION:2.0
PRODID:-//Plone.org//NONSGML plone.app.event//EN
X-WR-TIMEZONE:US/Pacific
BEGIN:VEVENT
SUMMARY:Climbing Conditioner - Dirty Harry's Balcony
DTSTART;VALUE=DATE:20250325
DTEND;VALUE=DATE:20250326
DTSTAMP;VALUE=DATE-TIME:20260424T031151Z
UID:390d3123648a46dfa17773d730bcc7f1
CATEGORIES:Climbing,Scrambling
DESCRIPTION:After work conditioning hike for climbers and scramblers to bu
 ild fitness for the climbing season!
LOCATION:Dirty Harry's Balcony
URL:https://www.mountaineers.org/locations-lodges/seattle-branch/committee
 s/seattle-climbing-committee/seminars-clinics/climbing-conditioner-dirty-h
 arrys-balcony-4
END:VEVENT
END:VCALENDAR
