BEGIN:VCALENDAR
VERSION:2.0
PRODID:-//Plone.org//NONSGML plone.app.event//EN
X-WR-TIMEZONE:US/Pacific
BEGIN:VEVENT
SUMMARY:Climbing Conditioner - Dirty Harry's Balcony
DTSTART;VALUE=DATE:20240507
DTEND;VALUE=DATE:20240508
DTSTAMP;VALUE=DATE-TIME:20260422T131753Z
UID:938736c6720f4bd3b96f8f667245ea96
CATEGORIES:Scrambling,Climbing
DESCRIPTION:After work conditioning hike to build fitness for the climbing
  season!
LOCATION:Dirty Harry's Balcony
URL:https://www.mountaineers.org/locations-lodges/seattle-branch/committee
 s/seattle-climbing-committee/seminars-clinics/climbing-conditioner-dirty-h
 arrys-balcony-3
END:VEVENT
END:VCALENDAR
