BEGIN:VCALENDAR
VERSION:2.0
PRODID:-//Plone.org//NONSGML plone.app.event//EN
X-WR-TIMEZONE:US/Pacific
BEGIN:VEVENT
SUMMARY:Following Alpine Rock Refresher/Instructor Review - Mountaineers S
 eattle Program Center
DTSTART;VALUE=DATE:20190508
DTEND;VALUE=DATE:20190509
DTSTAMP;VALUE=DATE-TIME:20260425T084421Z
UID:c980825912174d7286f4cf04b6a0c31b
CATEGORIES:Climbing
DESCRIPTION:AAR instructor review for simul-climbing and teams of three
LOCATION:Mountaineers Seattle Program Center
URL:https://www.mountaineers.org/locations-lodges/seattle-branch/committee
 s/seattle-climbing-committee/seminars-clinics/alpine-rock-instructor-revie
 w-mountaineers-seattle-program-center-2
END:VEVENT
END:VCALENDAR
