BEGIN:VCALENDAR
VERSION:2.0
PRODID:-//Plone.org//NONSGML plone.app.event//EN
X-WR-TIMEZONE:US/Pacific
BEGIN:VEVENT
SUMMARY:Following Alpine Rock Refresher/Instructor Review - Mountaineers S
 eattle Program Center
DTSTART;VALUE=DATE:20190501
DTEND;VALUE=DATE:20190502
DTSTAMP;VALUE=DATE-TIME:20260425T132128Z
UID:9471a7fab94a43da8a905e68867812be
CATEGORIES:Climbing
DESCRIPTION:This AAR event will be for instructors to demonstrate anchors 
 and transitions
LOCATION:Mountaineers Seattle Program Center
URL:https://www.mountaineers.org/locations-lodges/seattle-branch/committee
 s/seattle-climbing-committee/seminars-clinics/alpine-rock-instructor-revie
 w-mountaineers-seattle-program-center-1
END:VEVENT
END:VCALENDAR
