BEGIN:VCALENDAR
VERSION:2.0
PRODID:-//Plone.org//NONSGML plone.app.event//EN
X-WR-TIMEZONE:US/Pacific
BEGIN:VEVENT
SUMMARY:Advanced Alpine Rock Skill Series - Mountaineers Seattle Program C
 enter
DTSTART;VALUE=DATE:20241113
DTEND;VALUE=DATE:20241114
DTSTAMP;VALUE=DATE-TIME:20260425T192853Z
UID:61226ed201814feab5beff800ee4b31c
CATEGORIES:Climbing
DESCRIPTION:Advanced Alpine Rock Clinic. Anchors: Presentation of anchor s
 ystems followed by drills and practice of material. Incorporating the rope
 \; V-Clove\; shortening/lengthening W anchors\; Quad\, etc. This clinic is
  intended for graduates of intermediate rock coursework and have multi-pit
 ch climbing experience.
LOCATION:Mountaineers Seattle Program Center
URL:https://www.mountaineers.org/locations-lodges/seattle-branch/committee
 s/seattle-climbing-committee/seminars-clinics/advanced-alpine-rock-skill-s
 eries-mountaineers-seattle-program-center-2024-11-13
END:VEVENT
END:VCALENDAR
