BEGIN:VCALENDAR
VERSION:2.0
PRODID:-//Plone.org//NONSGML plone.app.event//EN
X-WR-TIMEZONE:US/Pacific
BEGIN:VEVENT
SUMMARY:Advanced Alpine Rock Skill Series - Bellevue Public Library
DTSTART;VALUE=DATE:20241211
DTEND;VALUE=DATE:20241212
DTSTAMP;VALUE=DATE-TIME:20260425T122509Z
UID:88d3ad57356f4199ab949bf37935f96c
CATEGORIES:Climbing
DESCRIPTION:Skill clinics that cover material to help those achieve longer
  multi-pitch rock objectives in the alpine. This sequence will focus on ph
 ysical training in preparation for challenging alpine objectives.
LOCATION:Bellevue Public Library
URL:https://www.mountaineers.org/locations-lodges/seattle-branch/committee
 s/seattle-climbing-committee/seminars-clinics/advanced-alpine-rock-skill-s
 eries-bellevue-public-library
END:VEVENT
END:VCALENDAR
