BEGIN:VCALENDAR
VERSION:2.0
PRODID:-//Plone.org//NONSGML plone.app.event//EN
X-WR-TIMEZONE:US/Pacific
BEGIN:VEVENT
SUMMARY:Intermediate Fitness Test - Mount Si Old Trail
DTSTART;VALUE=DATE:20180301
DTEND;VALUE=DATE:20180302
DTSTAMP;VALUE=DATE-TIME:20260420T021648Z
UID:af042cfc7b66446984d43ba9259988c5
CATEGORIES:Day Hiking
DESCRIPTION:Mandatory fitness test for students in the intermediate packag
 e
LOCATION:Mount Si Old Trail
URL:https://www.mountaineers.org/locations-lodges/seattle-branch/committee
 s/seattle-climbing-committee/seattle-climbing-website/trash/old-items-2025
 /intermediate-alpine-climbing-package-seattle/activities/intermediate-fitn
 ess-test-mount-si-old-trail
END:VEVENT
END:VCALENDAR
