BEGIN:VCALENDAR
VERSION:2.0
PRODID:-//Plone.org//NONSGML plone.app.event//EN
X-WR-TIMEZONE:US/Pacific
BEGIN:VEVENT
SUMMARY:Rock Skills - Mount Erie
DTSTART;VALUE=DATE:20160501
DTEND;VALUE=DATE:20160502
DTSTAMP;VALUE=DATE-TIME:20260420T021715Z
UID:3efa0f46ac8d46f788703106d4c31728
CATEGORIES:Climbing
DESCRIPTION:Rock climbing skill practice at Mt Erie
LOCATION:Mount Erie
URL:https://www.mountaineers.org/locations-lodges/seattle-branch/committee
 s/seattle-climbing-committee/seattle-climbing-website/trash/old-items-2025
 /basic-climbing-refresher-seattle/activities/rock-skills-mount-erie
END:VEVENT
END:VCALENDAR
