BEGIN:VCALENDAR
VERSION:2.0
PRODID:-//Plone.org//NONSGML plone.app.event//EN
X-WR-TIMEZONE:US/Pacific
BEGIN:VEVENT
SUMMARY:Intro to Rock - Assisted Braking Devices (Optional) - Mountaineers
  Seattle Program Center
DTSTART;VALUE=DATE:20260520
DTEND;VALUE=DATE:20260521
DTSTAMP;VALUE=DATE-TIME:20260422T164506Z
UID:2a65b46521964a14886f3da638a4a48a
CATEGORIES:Climbing
DESCRIPTION:Learn about Assisted Braking Devices in this optional session.
LOCATION:Mountaineers Seattle Program Center
URL:https://www.mountaineers.org/locations-lodges/seattle-branch/committee
 s/seattle-climbing-committee/course-templates/sport-climbing-bouldering-co
 urses/introduction-to-rock-climbing-course/activities/intro-to-rock-assist
 ed-braking-devices-optional-mountaineers-seattle-program-center-2
END:VEVENT
END:VCALENDAR
