BEGIN:VCALENDAR
VERSION:2.0
PRODID:-//Plone.org//NONSGML plone.app.event//EN
X-WR-TIMEZONE:US/Pacific
BEGIN:VEVENT
SUMMARY:Workshop 2 - Mountaineers Seattle Program Center
DTSTART;VALUE=DATE:20260427
DTEND;VALUE=DATE:20260428
DTSTAMP;VALUE=DATE-TIME:20260422T162714Z
UID:4b2d061d3dec4f6c8e808a9d02080277
CATEGORIES:Climbing
DESCRIPTION:Learn new climbing skills!
LOCATION:Mountaineers Seattle Program Center
URL:https://www.mountaineers.org/locations-lodges/seattle-branch/committee
 s/seattle-climbing-committee/course-templates/rock-climbing-courses/introd
 uction-to-single-pitch-trad-seattle-1/activities/workshop-2-mountaineers-s
 eattle-program-center-3
END:VEVENT
END:VCALENDAR
