BEGIN:VCALENDAR
VERSION:2.0
PRODID:-//Plone.org//NONSGML plone.app.event//EN
X-WR-TIMEZONE:US/Pacific
BEGIN:VEVENT
SUMMARY:Weekend Field Trip 2 - Tieton River: Royal Columns
DTSTART;VALUE=DATE:20260510
DTEND;VALUE=DATE:20260511
DTSTAMP;VALUE=DATE-TIME:20260421T182321Z
UID:5cd7f75cd5174e24a6e41e8fc3ac5d91
CATEGORIES:Climbing
DESCRIPTION:Put your lead skills to the test outside!
LOCATION:Tieton River: Royal Columns
URL:https://www.mountaineers.org/locations-lodges/seattle-branch/committee
 s/seattle-climbing-committee/course-templates/rock-climbing-courses/introd
 uction-to-single-pitch-trad-seattle-1/activities/weekend-field-trip-2-tiet
 on-river-royal-columns-7
END:VEVENT
END:VCALENDAR
