BEGIN:VCALENDAR
VERSION:2.0
PRODID:-//Plone.org//NONSGML plone.app.event//EN
X-WR-TIMEZONE:US/Pacific
BEGIN:VEVENT
SUMMARY:Weekend Field Trip 2 - Tieton River: Royal Columns
DTSTART;VALUE=DATE:20260509
DTEND;VALUE=DATE:20260510
DTSTAMP;VALUE=DATE-TIME:20260421T195713Z
UID:4d09984779064aaa8b2b2934190b7b8c
CATEGORIES:Climbing
DESCRIPTION:Put your lead skills to the test outside!
LOCATION:Tieton River: Royal Columns
URL:https://www.mountaineers.org/locations-lodges/seattle-branch/committee
 s/seattle-climbing-committee/course-templates/rock-climbing-courses/introd
 uction-to-single-pitch-trad-seattle-1/activities/weekend-field-trip-2-tiet
 on-river-royal-columns-6
END:VEVENT
END:VCALENDAR
