BEGIN:VCALENDAR
VERSION:2.0
PRODID:-//Plone.org//NONSGML plone.app.event//EN
X-WR-TIMEZONE:US/Pacific
BEGIN:VEVENT
SUMMARY:Weekend Field Trip 1 - Tieton River: Royal Columns
DTSTART;VALUE=DATE:20260502
DTEND;VALUE=DATE:20260503
DTSTAMP;VALUE=DATE-TIME:20260422T053827Z
UID:507b6424202240a7aa328f37860995f5
CATEGORIES:Climbing
DESCRIPTION:We will begin mock leading as well as have the opportunity to 
 practice crack climbing\, anchor building\, and proper gear selection and 
 placement!
LOCATION:Tieton River: Royal Columns
URL:https://www.mountaineers.org/locations-lodges/seattle-branch/committee
 s/seattle-climbing-committee/course-templates/rock-climbing-courses/introd
 uction-to-single-pitch-trad-seattle-1/activities/weekend-field-trip-1-tiet
 on-river-royal-columns-3
END:VEVENT
END:VCALENDAR
