BEGIN:VCALENDAR
VERSION:2.0
PRODID:-//Plone.org//NONSGML plone.app.event//EN
X-WR-TIMEZONE:US/Pacific
BEGIN:VEVENT
SUMMARY:Workshop 2 - Mountaineers Seattle Program Center
DTSTART;VALUE=DATE:20260423
DTEND;VALUE=DATE:20260424
DTSTAMP;VALUE=DATE-TIME:20260421T182232Z
UID:a00f57d9e4ab410f8ddfaaa5f7e2a8af
CATEGORIES:Climbing
DESCRIPTION:Practice multipitch skills!
LOCATION:Mountaineers Seattle Program Center
URL:https://www.mountaineers.org/locations-lodges/seattle-branch/committee
 s/seattle-climbing-committee/course-templates/rock-climbing-courses/introd
 uction-to-multi-pitch-trad-seattle/activities/workshop-2-mountaineers-seat
 tle-program-center-3
END:VEVENT
END:VCALENDAR
