BEGIN:VCALENDAR
VERSION:2.0
PRODID:-//Plone.org//NONSGML plone.app.event//EN
X-WR-TIMEZONE:US/Pacific
BEGIN:VEVENT
SUMMARY:Weekend Field Trip 2 - Leavenworth
DTSTART;VALUE=DATE:20260502
DTEND;VALUE=DATE:20260503
DTSTAMP;VALUE=DATE-TIME:20260421T182305Z
UID:071c776693a44005b0a66538e419fda9
CATEGORIES:Climbing
DESCRIPTION:Put your skills to the test outside!
LOCATION:Leavenworth
URL:https://www.mountaineers.org/locations-lodges/seattle-branch/committee
 s/seattle-climbing-committee/course-templates/rock-climbing-courses/introd
 uction-to-multi-pitch-trad-seattle/activities/weekend-field-trip-2-leavenw
 orth-18
END:VEVENT
END:VCALENDAR
