BEGIN:VCALENDAR
VERSION:2.0
PRODID:-//Plone.org//NONSGML plone.app.event//EN
X-WR-TIMEZONE:US/Pacific
BEGIN:VEVENT
SUMMARY:WMCR - Experience Trip 3 - Late Season Glacier Travel - Paradise (
 Mount Rainier)
DTSTART;VALUE=DATE:20260927
DTEND;VALUE=DATE:20260928
DTSTAMP;VALUE=DATE-TIME:20260421T182436Z
UID:c303999dcc8f4253a3177ea1871cdcea
CATEGORIES:Climbing
DESCRIPTION:ET3: In September conditions practice rope lead & rope managem
 ent\, navigate crevasses and crevasse rescue in real crevasses hopefully\,
LOCATION:Paradise (Mount Rainier)
URL:https://www.mountaineers.org/locations-lodges/seattle-branch/committee
 s/seattle-climbing-committee/course-templates/rock-climbing-courses/interm
 ediate-glacier-travel-seattle/activities/wmcr-experience-trip-3-late-seaso
 n-glacier-travel-paradise-mount-rainier-2
END:VEVENT
END:VCALENDAR
