BEGIN:VCALENDAR
VERSION:2.0
PRODID:-//Plone.org//NONSGML plone.app.event//EN
X-WR-TIMEZONE:US/Pacific
BEGIN:VEVENT
SUMMARY:WMCR - Experience Trip 2 - Early Season Glacier Travel & Mentorshi
 p - Paradise Glacier
DTSTART;VALUE=DATE:20260516
DTEND;VALUE=DATE:20260517
DTSTAMP;VALUE=DATE-TIME:20260421T182435Z
UID:d6c9e439fa954c48ae592b83f380edc7
CATEGORIES:Climbing
DESCRIPTION:ET2: In Spring/Summer conditions practice rope lead & rope man
 agement\, navigate crevasses\, crevasse rescue in real crevasses hopefully
 \, and execute the trip plan under the mentorship of experienced leaders.
LOCATION:Paradise Glacier
URL:https://www.mountaineers.org/locations-lodges/seattle-branch/committee
 s/seattle-climbing-committee/course-templates/rock-climbing-courses/interm
 ediate-glacier-travel-seattle/activities/wmcr-experience-trip-2-early-seas
 on-glacier-travel-mentorship-paradise-glacier
END:VEVENT
END:VCALENDAR
