BEGIN:VCALENDAR
VERSION:2.0
PRODID:-//Plone.org//NONSGML plone.app.event//EN
X-WR-TIMEZONE:US/Pacific
BEGIN:VEVENT
SUMMARY:WMCR - Experience Trip 2 - Early Season Glacier Travel & Mentorshi
 p - Paradise Area (winter)
DTSTART;VALUE=DATE:20260523
DTEND;VALUE=DATE:20260524
DTSTAMP;VALUE=DATE-TIME:20260421T182435Z
UID:eb8299e91ca34948b8e430928e72af9d
CATEGORIES:Climbing
DESCRIPTION:ET2: In Spring/Summer conditions practice rope lead & rope man
 agement\, navigate crevasses\, crevasse rescue in real crevasses hopefully
 \, and execute the trip plan to Sherman Peak under the mentorship of exper
 ienced leaders.
LOCATION:Paradise Area (winter)
URL:https://www.mountaineers.org/locations-lodges/seattle-branch/committee
 s/seattle-climbing-committee/course-templates/rock-climbing-courses/interm
 ediate-glacier-travel-seattle/activities/wmcr-experience-trip-2-early-seas
 on-glacier-travel-mentorship-paradise-area-winter-1
END:VEVENT
END:VCALENDAR
