BEGIN:VCALENDAR
VERSION:2.0
PRODID:-//Plone.org//NONSGML plone.app.event//EN
X-WR-TIMEZONE:US/Pacific
BEGIN:VEVENT
SUMMARY:WMCR - Dummy Activity to award rope leader badge - Online Classroo
 m
DTSTART;VALUE=DATE:20260501
DTEND;VALUE=DATE:20260502
DTSTAMP;VALUE=DATE-TIME:20260421T182429Z
UID:1a4bb8e2b22846069b9b0f5c211db9fd
CATEGORIES:Climbing
DESCRIPTION:This activity is used by the course administrative leaders to 
 award the students with glacier climb rope leader and continuing leadershi
 p development badge when FT1-4 and ET1 are successfully completed along wi
 th submission and review of eLearning materials on coassemble.
LOCATION:Online Classroom
URL:https://www.mountaineers.org/locations-lodges/seattle-branch/committee
 s/seattle-climbing-committee/course-templates/rock-climbing-courses/interm
 ediate-glacier-travel-seattle/activities/wmcr-dummy-activity-to-award-rope
 -leader-badge-online-classroom
END:VEVENT
END:VCALENDAR
