BEGIN:VCALENDAR
VERSION:2.0
PRODID:-//Plone.org//NONSGML plone.app.event//EN
X-WR-TIMEZONE:US/Pacific
BEGIN:VEVENT
SUMMARY:Weekend Field Trip 2 - Tieton River: Royal Columns
DTSTART;VALUE=DATE:20260425
DTEND;VALUE=DATE:20260426
DTSTAMP;VALUE=DATE-TIME:20260421T182340Z
UID:7b634294d0644313b28f41c4bd190046
CATEGORIES:Climbing
DESCRIPTION:Put your lead skills to the test outside!
LOCATION:Tieton River: Royal Columns
URL:https://www.mountaineers.org/locations-lodges/seattle-branch/committee
 s/seattle-climbing-committee/course-templates/rock-climbing-courses/copy_o
 f_introduction-to-single-pitch-trad-seattle/activities/weekend-field-trip-
 2-tieton-river-royal-columns-14
END:VEVENT
END:VCALENDAR
