BEGIN:VCALENDAR
VERSION:2.0
PRODID:-//Plone.org//NONSGML plone.app.event//EN
X-WR-TIMEZONE:US/Pacific
BEGIN:VEVENT
SUMMARY:Weekend Field Trip 2 - Leavenworth
DTSTART;VALUE=DATE:20260517
DTEND;VALUE=DATE:20260518
DTSTAMP;VALUE=DATE-TIME:20260421T182322Z
UID:41ed9e1d9da247549925e53d259087e2
CATEGORIES:Climbing
DESCRIPTION:Put your skills to the test outside!
LOCATION:Leavenworth
URL:https://www.mountaineers.org/locations-lodges/seattle-branch/committee
 s/seattle-climbing-committee/course-templates/rock-climbing-courses/copy_o
 f_introduction-to-multi-pitch-trad-seattle/activities/weekend-field-trip-2
 -leavenworth-10
END:VEVENT
END:VCALENDAR
