BEGIN:VCALENDAR
VERSION:2.0
PRODID:-//Plone.org//NONSGML plone.app.event//EN
X-WR-TIMEZONE:US/Pacific
BEGIN:VEVENT
SUMMARY:Weekend Field Trip 1 - Leavenworth
DTSTART;VALUE=DATE:20260509
DTEND;VALUE=DATE:20260510
DTSTAMP;VALUE=DATE-TIME:20260421T182305Z
UID:6a675313b25941da8c51f6f00df70fac
CATEGORIES:Climbing
DESCRIPTION:Put your multi pitch skills into practice outside! Practice se
 tting up anchor spots and mock leading\, cleaning and efficiently passing 
 gear and rope management.
LOCATION:Leavenworth
URL:https://www.mountaineers.org/locations-lodges/seattle-branch/committee
 s/seattle-climbing-committee/course-templates/rock-climbing-courses/copy_o
 f_introduction-to-multi-pitch-trad-seattle/activities/weekend-field-trip-1
 -leavenworth-2
END:VEVENT
END:VCALENDAR
