BEGIN:VCALENDAR
VERSION:2.0
PRODID:-//Plone.org//NONSGML plone.app.event//EN
X-WR-TIMEZONE:US/Pacific
BEGIN:VEVENT
SUMMARY:Weekend Field Trip 2 - Leavenworth
DTSTART;VALUE=DATE:20260607
DTEND;VALUE=DATE:20260608
DTSTAMP;VALUE=DATE-TIME:20260421T182148Z
UID:98461109387a4e9c95e0d6ece191d947
CATEGORIES:Climbing
DESCRIPTION:Put your skills to the test outside!
LOCATION:Leavenworth
URL:https://www.mountaineers.org/locations-lodges/seattle-branch/committee
 s/seattle-climbing-committee/course-templates/rock-climbing-courses/copy2_
 of_introduction-to-multi-pitch-trad-seattle/activities/weekend-field-trip-
 2-leavenworth-5
END:VEVENT
END:VCALENDAR
