BEGIN:VCALENDAR
VERSION:2.0
PRODID:-//Plone.org//NONSGML plone.app.event//EN
X-WR-TIMEZONE:US/Pacific
BEGIN:VEVENT
SUMMARY:Weekend Field Trip 1 - Leavenworth
DTSTART;VALUE=DATE:20260530
DTEND;VALUE=DATE:20260531
DTSTAMP;VALUE=DATE-TIME:20260421T182305Z
UID:e7f0592546b944f2b39aaeb21456f4e9
CATEGORIES:Climbing
DESCRIPTION:We will be climbing at Surf City. Put your multi pitch skills 
 into practice outside! Practice setting up anchor spots and mock leading\,
  cleaning and efficiently passing gear and rope management.
LOCATION:Leavenworth
URL:https://www.mountaineers.org/locations-lodges/seattle-branch/committee
 s/seattle-climbing-committee/course-templates/rock-climbing-courses/copy2_
 of_introduction-to-multi-pitch-trad-seattle/activities/weekend-field-trip-
 1-leavenworth-2
END:VEVENT
END:VCALENDAR
