BEGIN:VCALENDAR
VERSION:2.0
PRODID:-//Plone.org//NONSGML plone.app.event//EN
X-WR-TIMEZONE:US/Pacific
BEGIN:VEVENT
SUMMARY:Kick Off Meeting - Mountaineers Seattle Program Center
DTSTART;VALUE=DATE:20260514
DTEND;VALUE=DATE:20260515
DTSTAMP;VALUE=DATE-TIME:20260422T075326Z
UID:840f0126973a4a6e87c09c394ff796c5
CATEGORIES:Climbing
DESCRIPTION:Meet your fellow classmates and instructors\, chat gear and co
 urse requirements and get stoked for the upcoming course.
LOCATION:Mountaineers Seattle Program Center
URL:https://www.mountaineers.org/locations-lodges/seattle-branch/committee
 s/seattle-climbing-committee/course-templates/rock-climbing-courses/copy2_
 of_introduction-to-multi-pitch-trad-seattle/activities/kick-off-meeting-mo
 untaineers-seattle-program-center-4
END:VEVENT
END:VCALENDAR
