BEGIN:VCALENDAR
VERSION:2.0
PRODID:-//Plone.org//NONSGML plone.app.event//EN
X-WR-TIMEZONE:US/Pacific
BEGIN:VEVENT
SUMMARY:Intensive Basic Stewardship Opportunity - Lord Hill Regional Park
DTSTART;VALUE=DATE:20260919
DTEND;VALUE=DATE:20260920
DTSTAMP;VALUE=DATE-TIME:20260422T053534Z
UID:a57b88d9c7034e1493b01e069bdad7de
CATEGORIES:Stewardship
DESCRIPTION:Full-day stewardship activity at Lord Hill Regional Park for t
 he Seattle Intensive Basic Climbing Course. We will be working on brushing
 \, trail tread\, and drainage on trails throughout the park. Registration 
 opens to all branches on September 9th\; waitlisting is encouraged.
LOCATION:Lord Hill Regional Park
URL:https://www.mountaineers.org/locations-lodges/seattle-branch/committee
 s/seattle-climbing-committee/course-templates/alpine-climbing-courses/inte
 nse-basic-alpine-climbing-course/activities/intensive-basic-stewardship-op
 portunity-lord-hill-regional-park
END:VEVENT
END:VCALENDAR
