BEGIN:VCALENDAR
VERSION:2.0
PRODID:-//Plone.org//NONSGML plone.app.event//EN
X-WR-TIMEZONE:US/Pacific
BEGIN:VEVENT
SUMMARY:Intensive Basic Stewardship Opportunity - Lord Hill Regional Park
DTSTART;VALUE=DATE:20261018
DTEND;VALUE=DATE:20261019
DTSTAMP;VALUE=DATE-TIME:20260421T182108Z
UID:a5fcb00b95c24837b9c99517006a5280
CATEGORIES:Stewardship
DESCRIPTION:Full-day stewardship activity at Lord Hill Regional Park for t
 he Seattle Intensive Basic Climbing Course. We will be working on brushing
 \, trail tread\, and drainage on trails throughout the park. Registration 
 opens to all branches on October 7th\; waitlisting is encouraged.
LOCATION:Lord Hill Regional Park
URL:https://www.mountaineers.org/locations-lodges/seattle-branch/committee
 s/seattle-climbing-committee/course-templates/alpine-climbing-courses/inte
 nse-basic-alpine-climbing-course/activities/intensive-basic-stewardship-op
 portunity-lord-hill-regional-park-1
END:VEVENT
END:VCALENDAR
