BEGIN:VCALENDAR
VERSION:2.0
PRODID:-//Plone.org//NONSGML plone.app.event//EN
X-WR-TIMEZONE:US/Pacific
BEGIN:VEVENT
SUMMARY:Intensive Basic Skills Night C - Mountaineers Seattle Program Cent
 er
DTSTART;VALUE=DATE:20260527
DTEND;VALUE=DATE:20260528
DTSTAMP;VALUE=DATE-TIME:20260421T182109Z
UID:8d923accb4824266b2bb96d79f991ede
CATEGORIES:Climbing
DESCRIPTION:This skills night will cover how to go hands-free while belayi
 ng and showcase a crevasse rescue demo.
LOCATION:Mountaineers Seattle Program Center
URL:https://www.mountaineers.org/locations-lodges/seattle-branch/committee
 s/seattle-climbing-committee/course-templates/alpine-climbing-courses/inte
 nse-basic-alpine-climbing-course/activities/intensive-basic-skills-night-c
 -mountaineers-seattle-program-center-1
END:VEVENT
END:VCALENDAR
