BEGIN:VCALENDAR
VERSION:2.0
PRODID:-//Plone.org//NONSGML plone.app.event//EN
X-WR-TIMEZONE:US/Pacific
BEGIN:VEVENT
SUMMARY:Intensive Basic Skills Night B - Mountaineers Seattle Program Cent
 er
DTSTART;VALUE=DATE:20260511
DTEND;VALUE=DATE:20260512
DTSTAMP;VALUE=DATE-TIME:20260422T053527Z
UID:f7033faae6f9467ba9f9318b835e739a
CATEGORIES:Climbing
DESCRIPTION:This skills night will cover extended rappel and review conten
 t from the prior sessions.
LOCATION:Mountaineers Seattle Program Center
URL:https://www.mountaineers.org/locations-lodges/seattle-branch/committee
 s/seattle-climbing-committee/course-templates/alpine-climbing-courses/inte
 nse-basic-alpine-climbing-course/activities/intensive-basic-skills-night-b
 -mountaineers-seattle-program-center-1
END:VEVENT
END:VCALENDAR
