BEGIN:VCALENDAR
VERSION:2.0
PRODID:-//Plone.org//NONSGML plone.app.event//EN
X-WR-TIMEZONE:US/Pacific
BEGIN:VEVENT
SUMMARY:Intensive Basic Climbing Course Rock Experience Trip - Mount Erie
DTSTART;VALUE=DATE:20260602
DTEND;VALUE=DATE:20260603
DTSTAMP;VALUE=DATE-TIME:20260422T164307Z
UID:dc09309162564d1f86928a41cade7f66
CATEGORIES:Climbing
DESCRIPTION:Intensive Basic Climbing Course Lectures & Field Trips - Seatt
 le
LOCATION:Mount Erie
URL:https://www.mountaineers.org/locations-lodges/seattle-branch/committee
 s/seattle-climbing-committee/course-templates/alpine-climbing-courses/inte
 nse-basic-alpine-climbing-course/activities/intensive-basic-climbing-cours
 e-rock-experience-trip-mount-erie-1
END:VEVENT
END:VCALENDAR
