BEGIN:VCALENDAR
VERSION:2.0
PRODID:-//Plone.org//NONSGML plone.app.event//EN
X-WR-TIMEZONE:US/Pacific
BEGIN:VEVENT
SUMMARY:Intensive Basic Climbing Course Lectures & Field Trips - Mountaine
 ers Seattle Program Center
DTSTART;VALUE=DATE:20260531
DTEND;VALUE=DATE:20260601
DTSTAMP;VALUE=DATE-TIME:20260421T182012Z
UID:b619eb7edcbc49c48a3c606810062956
CATEGORIES:Climbing
DESCRIPTION:Day 2 - Intensive Basic Climbing Course Lectures & Field Trips
  - Seattle
LOCATION:Mountaineers Seattle Program Center
URL:https://www.mountaineers.org/locations-lodges/seattle-branch/committee
 s/seattle-climbing-committee/course-templates/alpine-climbing-courses/inte
 nse-basic-alpine-climbing-course/activities/intensive-basic-climbing-cours
 e-lectures-field-trips-mountaineers-seattle-program-center-20
END:VEVENT
END:VCALENDAR
