BEGIN:VCALENDAR
VERSION:2.0
PRODID:-//Plone.org//NONSGML plone.app.event//EN
X-WR-TIMEZONE:US/Pacific
BEGIN:VEVENT
SUMMARY:Intensive Basic Climbing Course Lectures & Field Trips - Mountaine
 ers Seattle Program Center
DTSTART;VALUE=DATE:20260530
DTEND;VALUE=DATE:20260531
DTSTAMP;VALUE=DATE-TIME:20260422T164329Z
UID:e2e647502f8b4d1d9374eef16f0fef9c
CATEGORIES:Climbing
DESCRIPTION:Day 1 - Intensive Basic Climbing Course Lectures & Field Trips
  - Seattle
LOCATION:Mountaineers Seattle Program Center
URL:https://www.mountaineers.org/locations-lodges/seattle-branch/committee
 s/seattle-climbing-committee/course-templates/alpine-climbing-courses/inte
 nse-basic-alpine-climbing-course/activities/intensive-basic-climbing-cours
 e-lectures-field-trips-mountaineers-seattle-program-center-19
END:VEVENT
END:VCALENDAR
