BEGIN:VCALENDAR
VERSION:2.0
PRODID:-//Plone.org//NONSGML plone.app.event//EN
X-WR-TIMEZONE:US/Pacific
BEGIN:VEVENT
SUMMARY:Intensive Basic Climbing Course Lectures & Field Trips - Mountaine
 ers Seattle Program Center
DTSTART;VALUE=DATE:20260604
DTEND;VALUE=DATE:20260605
DTSTAMP;VALUE=DATE-TIME:20260421T182012Z
UID:0a99dd2f3fbe478db1e04290b4fd761c
CATEGORIES:Climbing
DESCRIPTION:Day 6 - Glacier - Intensive Basic Climbing Course Lectures & F
 ield Trips - Seattle
LOCATION:Mountaineers Seattle Program Center
URL:https://www.mountaineers.org/locations-lodges/seattle-branch/committee
 s/seattle-climbing-committee/course-templates/alpine-climbing-courses/inte
 nse-basic-alpine-climbing-course/activities/intensive-basic-climbing-cours
 e-lectures-field-trips-mountaineers-seattle-program-center-18
END:VEVENT
END:VCALENDAR
