BEGIN:VCALENDAR
VERSION:2.0
PRODID:-//Plone.org//NONSGML plone.app.event//EN
X-WR-TIMEZONE:US/Pacific
BEGIN:VEVENT
SUMMARY:Intensive Basic Climbing Course Glacier Experience Trip - Austin P
 ass (winter)
DTSTART;VALUE=DATE:20260605
DTEND;VALUE=DATE:20260606
DTSTAMP;VALUE=DATE-TIME:20260422T164308Z
UID:4d1f474bf0a441b0b7aa320fe039fe9a
CATEGORIES:Climbing
DESCRIPTION:Intensive Basic Climbing Course Lectures & Field Trips - Seatt
 le
LOCATION:Austin Pass (winter)
URL:https://www.mountaineers.org/locations-lodges/seattle-branch/committee
 s/seattle-climbing-committee/course-templates/alpine-climbing-courses/inte
 nse-basic-alpine-climbing-course/activities/intensive-basic-climbing-cours
 e-glacier-experience-trip-austin-pass-winter-1
END:VEVENT
END:VCALENDAR
