BEGIN:VCALENDAR
VERSION:2.0
PRODID:-//Plone.org//NONSGML plone.app.event//EN
X-WR-TIMEZONE:US/Pacific
BEGIN:VEVENT
SUMMARY:Conditioner Hikes - Mount Teneriffe
DTSTART;VALUE=DATE:20260517
DTEND;VALUE=DATE:20260518
DTSTAMP;VALUE=DATE-TIME:20260422T053533Z
UID:26056e07f8bc4d959b3af75c48b997b9
DESCRIPTION:Climbing conditioner! Keep up your fitness training while soci
 alizing with other students and instructors
LOCATION:Mount Teneriffe
URL:https://www.mountaineers.org/locations-lodges/seattle-branch/committee
 s/seattle-climbing-committee/course-templates/alpine-climbing-courses/inte
 nse-basic-alpine-climbing-course/activities/conditioner-hikes-mount-teneri
 ffe-3
END:VEVENT
END:VCALENDAR
