BEGIN:VCALENDAR
VERSION:2.0
PRODID:-//Plone.org//NONSGML plone.app.event//EN
X-WR-TIMEZONE:US/Pacific
BEGIN:VEVENT
SUMMARY:Conditioner Hikes - Mailbox Peak
DTSTART;VALUE=DATE:20260502
DTEND;VALUE=DATE:20260503
DTSTAMP;VALUE=DATE-TIME:20260421T182109Z
UID:128cadd7e30b41da8ce26b8e0fb934b2
DESCRIPTION:Climbing conditioner! Keep up your fitness training while soci
 alizing with other students and instructors
LOCATION:Mailbox Peak
URL:https://www.mountaineers.org/locations-lodges/seattle-branch/committee
 s/seattle-climbing-committee/course-templates/alpine-climbing-courses/inte
 nse-basic-alpine-climbing-course/activities/conditioner-hikes-mailbox-peak
 -4
END:VEVENT
END:VCALENDAR
