BEGIN:VCALENDAR
VERSION:2.0
PRODID:-//Plone.org//NONSGML plone.app.event//EN
X-WR-TIMEZONE:US/Pacific
BEGIN:VEVENT
SUMMARY:Basic Glacier Travel - Student Skills Nights - Mountaineers Seattl
 e Program Center
DTSTART;VALUE=DATE:20260427
DTEND;VALUE=DATE:20260428
DTSTAMP;VALUE=DATE-TIME:20260419T162153Z
UID:1c9e9e10658e41a3ae74384a39365b74
CATEGORIES:Climbing
DESCRIPTION:Open practice session for Basic Glacier Travel students.
LOCATION:Mountaineers Seattle Program Center
URL:https://www.mountaineers.org/locations-lodges/seattle-branch/committee
 s/seattle-climbing-committee/course-templates/alpine-climbing-courses/glac
 ier-travel-course/activities/basic-glacier-travel-student-skills-nights-mo
 untaineers-seattle-program-center-7
END:VEVENT
END:VCALENDAR
