BEGIN:VCALENDAR
VERSION:2.0
PRODID:-//Plone.org//NONSGML plone.app.event//EN
X-WR-TIMEZONE:US/Pacific
BEGIN:VEVENT
SUMMARY:Basic Glacier Travel - Student Skills Nights - Mountaineers Seattl
 e Program Center
DTSTART;VALUE=DATE:20260506
DTEND;VALUE=DATE:20260507
DTSTAMP;VALUE=DATE-TIME:20260419T162140Z
UID:db7651b73be14c3fabd42c0de667aa8e
CATEGORIES:Climbing
DESCRIPTION:Open practice session for Basic Glacier Travel students.
LOCATION:Mountaineers Seattle Program Center
URL:https://www.mountaineers.org/locations-lodges/seattle-branch/committee
 s/seattle-climbing-committee/course-templates/alpine-climbing-courses/glac
 ier-travel-course/activities/basic-glacier-travel-student-skills-nights-mo
 untaineers-seattle-program-center-6
END:VEVENT
END:VCALENDAR
