BEGIN:VCALENDAR
VERSION:2.0
PRODID:-//Plone.org//NONSGML plone.app.event//EN
X-WR-TIMEZONE:US/Pacific
BEGIN:VEVENT
SUMMARY:Basic Glacier Travel - Crevasse Rescue Evaluations - Mountaineers 
 Seattle Program Center
DTSTART;VALUE=DATE:20260512
DTEND;VALUE=DATE:20260513
DTSTAMP;VALUE=DATE-TIME:20260422T075654Z
UID:1b59a1a0aea5418eb3992b2aaebd04e2
CATEGORIES:Climbing
DESCRIPTION:Practice and evaluation for crevasse rescue
LOCATION:Mountaineers Seattle Program Center
URL:https://www.mountaineers.org/locations-lodges/seattle-branch/committee
 s/seattle-climbing-committee/course-templates/alpine-climbing-courses/glac
 ier-travel-course/activities/basic-glacier-travel-crevasse-rescue-evaluati
 ons-mountaineers-seattle-program-center-7
END:VEVENT
END:VCALENDAR
