BEGIN:VCALENDAR
VERSION:2.0
PRODID:-//Plone.org//NONSGML plone.app.event//EN
X-WR-TIMEZONE:US/Pacific
BEGIN:VEVENT
SUMMARY:Basic Glacier Travel - Conditioner Hike - Mount Si Old Trail
DTSTART;VALUE=DATE:20260423
DTEND;VALUE=DATE:20260424
DTSTAMP;VALUE=DATE-TIME:20260419T162153Z
UID:c4a7be8392744e3b82f555181ee60cd2
CATEGORIES:Day Hiking
DESCRIPTION:Course conditioner hike
LOCATION:Mount Si Old Trail
URL:https://www.mountaineers.org/locations-lodges/seattle-branch/committee
 s/seattle-climbing-committee/course-templates/alpine-climbing-courses/glac
 ier-travel-course/activities/basic-glacier-travel-conditioner-hike-mount-s
 i-old-trail-14
END:VEVENT
END:VCALENDAR
