BEGIN:VCALENDAR
VERSION:2.0
PRODID:-//Plone.org//NONSGML plone.app.event//EN
X-WR-TIMEZONE:US/Pacific
BEGIN:VEVENT
SUMMARY:Seattle Basic Alpine SIG Field Trip - Overnight Snow Scrambling - 
 Paradise
DTSTART;VALUE=DATE:20260502
DTEND;VALUE=DATE:20260503
DTSTAMP;VALUE=DATE-TIME:20260422T053533Z
UID:adca7bedfd7a4938baedaec8c48dfc63
CATEGORIES:Climbing
DESCRIPTION:BMC SIG Snow Field Trip - Overnight Snow (Snow Anchors & Belay
 s\, Crevasse Rescue\, Snow Camping\, Roped Travel) plus scrambling
LOCATION:Paradise
URL:https://www.mountaineers.org/locations-lodges/seattle-branch/committee
 s/seattle-climbing-committee/course-templates/alpine-climbing-courses/basi
 c-alpine-climbing-course/activities/seattle-basic-alpine-sig-field-trip-ov
 ernight-snow-scrambling-paradise-7
END:VEVENT
END:VCALENDAR
