BEGIN:VCALENDAR
VERSION:2.0
PRODID:-//Plone.org//NONSGML plone.app.event//EN
X-WR-TIMEZONE:US/Pacific
BEGIN:VEVENT
SUMMARY:Seattle Basic Alpine SIG Field Trip - Overnight Snow Scrambling - 
 Mount Baker Recreation Area
DTSTART;VALUE=DATE:20260606
DTEND;VALUE=DATE:20260607
DTSTAMP;VALUE=DATE-TIME:20260422T164352Z
UID:3585a6e1057943fbb11683b2c61d7095
CATEGORIES:Climbing
DESCRIPTION:Basic SIG Snow2 Field Trip - Overnight Snow (Snow Anchors & Be
 lays\, Crevasse Rescue\, Snow Camping\, Roped Travel) plus scrambling
LOCATION:Mount Baker Recreation Area
URL:https://www.mountaineers.org/locations-lodges/seattle-branch/committee
 s/seattle-climbing-committee/course-templates/alpine-climbing-courses/basi
 c-alpine-climbing-course/activities/seattle-basic-alpine-sig-field-trip-ov
 ernight-snow-scrambling-mount-baker-recreation-area-1
END:VEVENT
END:VCALENDAR
