BEGIN:VCALENDAR
VERSION:2.0
PRODID:-//Plone.org//NONSGML plone.app.event//EN
X-WR-TIMEZONE:US/Pacific
BEGIN:VEVENT
SUMMARY:Seattle Basic Alpine SIG Field Trip - Overnight Snow Scrambling - 
 Artist Point
DTSTART;VALUE=DATE:20260425
DTEND;VALUE=DATE:20260426
DTSTAMP;VALUE=DATE-TIME:20260422T053658Z
UID:b60d668f7feb48ae8d21626d0d4888be
CATEGORIES:Climbing
DESCRIPTION:Basic SIG Snow Field Trip - Overnight Snow (Snow Anchors & Bel
 ays\, Crevasse Rescue\, Snow Camping\, Roped Travel) plus scrambling
LOCATION:Artist Point
URL:https://www.mountaineers.org/locations-lodges/seattle-branch/committee
 s/seattle-climbing-committee/course-templates/alpine-climbing-courses/basi
 c-alpine-climbing-course/activities/seattle-basic-alpine-sig-field-trip-ov
 ernight-snow-scrambling-artist-point-5
END:VEVENT
END:VCALENDAR
