BEGIN:VCALENDAR
VERSION:2.0
PRODID:-//Plone.org//NONSGML plone.app.event//EN
X-WR-TIMEZONE:US/Pacific
BEGIN:VEVENT
SUMMARY:Seattle Basic Alpine Field Trip #7 - Crevasse Rescue Evaluation - 
 Magnuson Park
DTSTART;VALUE=DATE:20260514
DTEND;VALUE=DATE:20260515
DTSTAMP;VALUE=DATE-TIME:20260422T075751Z
UID:e4a509c6977e4ed89ec1e851975d952c
CATEGORIES:Climbing
DESCRIPTION:Basic Field Trip #7 - Crevasse Rescue Evaluation
LOCATION:Magnuson Park
URL:https://www.mountaineers.org/locations-lodges/seattle-branch/committee
 s/seattle-climbing-committee/course-templates/alpine-climbing-courses/basi
 c-alpine-climbing-course/activities/seattle-basic-alpine-field-trip-7-crev
 asse-rescue-evaluation-magnuson-park-15
END:VEVENT
END:VCALENDAR
