BEGIN:VCALENDAR
VERSION:2.0
PRODID:-//Plone.org//NONSGML plone.app.event//EN
X-WR-TIMEZONE:US/Pacific
BEGIN:VEVENT
SUMMARY:Seattle Basic Alpine Field Trip #7 - Crevasse Rescue Evaluation - 
 Magnuson Park
DTSTART;VALUE=DATE:20260512
DTEND;VALUE=DATE:20260513
DTSTAMP;VALUE=DATE-TIME:20260421T195647Z
UID:7b6ff224d37c4201ae8023eb3659fb71
CATEGORIES:Climbing
DESCRIPTION:Basic Field Trip #7 - Crevasse Rescue Evaluation
LOCATION:Magnuson Park
URL:https://www.mountaineers.org/locations-lodges/seattle-branch/committee
 s/seattle-climbing-committee/course-templates/alpine-climbing-courses/basi
 c-alpine-climbing-course/activities/seattle-basic-alpine-field-trip-7-crev
 asse-rescue-evaluation-magnuson-park-14
END:VEVENT
END:VCALENDAR
