BEGIN:VCALENDAR
VERSION:2.0
PRODID:-//Plone.org//NONSGML plone.app.event//EN
X-WR-TIMEZONE:US/Pacific
BEGIN:VEVENT
SUMMARY:Seattle Basic Alpine Field Trip #5 - Crevasse Rescue Demo & Practi
 ce - Magnuson Park
DTSTART;VALUE=DATE:20260421
DTEND;VALUE=DATE:20260422
DTSTAMP;VALUE=DATE-TIME:20260421T200658Z
UID:87beaa3c149843acb2e1cdb9ec8525a2
CATEGORIES:Climbing
DESCRIPTION:Basic Field Trip #5 - Crevasse Rescue Demo
LOCATION:Magnuson Park
URL:https://www.mountaineers.org/locations-lodges/seattle-branch/committee
 s/seattle-climbing-committee/course-templates/alpine-climbing-courses/basi
 c-alpine-climbing-course/activities/seattle-basic-alpine-field-trip-5-crev
 asse-rescue-demo-practice-magnuson-park-10
END:VEVENT
END:VCALENDAR
