BEGIN:VCALENDAR
VERSION:2.0
PRODID:-//Plone.org//NONSGML plone.app.event//EN
X-WR-TIMEZONE:US/Pacific
BEGIN:VEVENT
SUMMARY:Seattle Basic Alpine Climbing Skills night - Robinswood Tennis Cen
 ter
DTSTART;VALUE=DATE:20260427
DTEND;VALUE=DATE:20260428
DTSTAMP;VALUE=DATE-TIME:20260423T034520Z
UID:f9adad43e30c4e1ebaf03ce81e726e90
CATEGORIES:Climbing
DESCRIPTION:Crevasse Rescue Skills Practice For Metz/Dittig SIG
LOCATION:Robinswood Tennis Center
URL:https://www.mountaineers.org/locations-lodges/seattle-branch/committee
 s/seattle-climbing-committee/course-templates/alpine-climbing-courses/basi
 c-alpine-climbing-course/activities/seattle-basic-alpine-climbing-skills-n
 ight-robinswood-tennis-center-13
END:VEVENT
END:VCALENDAR
