BEGIN:VCALENDAR
VERSION:2.0
PRODID:-//Plone.org//NONSGML plone.app.event//EN
X-WR-TIMEZONE:US/Pacific
BEGIN:VEVENT
SUMMARY:Seattle Basic Alpine Climbing Lecture #4 - Glacier Travel + Trip P
 lanning & Climbing Team - Online Classroom
DTSTART;VALUE=DATE:20260506
DTEND;VALUE=DATE:20260507
DTSTAMP;VALUE=DATE-TIME:20260421T200636Z
UID:1d206a62b962495c8f04286d3e1cb4a8
CATEGORIES:Climbing
DESCRIPTION:The fourth lecture of the Basic Alpine Climbing Course
LOCATION:Online Classroom
URL:https://www.mountaineers.org/locations-lodges/seattle-branch/committee
 s/seattle-climbing-committee/course-templates/alpine-climbing-courses/basi
 c-alpine-climbing-course/activities/seattle-basic-alpine-climbing-lecture-
 4-glacier-travel-trip-planning-climbing-team-online-classroom-1
END:VEVENT
END:VCALENDAR
