BEGIN:VCALENDAR
VERSION:2.0
PRODID:-//Plone.org//NONSGML plone.app.event//EN
X-WR-TIMEZONE:US/Pacific
BEGIN:VEVENT
SUMMARY:Aid & Big Wall Field Trip - UTW - day 1 of 2 - multiple weekends s
 cheduled\, students register for both dates on a single weekend - Upper To
 wn Wall
DTSTART;VALUE=DATE:20260530
DTEND;VALUE=DATE:20260531
DTSTAMP;VALUE=DATE-TIME:20260421T182149Z
UID:14235e9bf2bb4954bfa8c8b47627654a
CATEGORIES:Climbing
DESCRIPTION:Aid & Big Wall Field Trip @ Index Upper Town Wall.\nStudent Co
 hort B - day 1 of 2.\nMultiple weekends scheduled\, students register for 
 both dates on a single weekend.
LOCATION:Upper Town Wall
URL:https://www.mountaineers.org/locations-lodges/seattle-branch/committee
 s/seattle-climbing-committee/course-templates/advanced-climbing-courses/ai
 d-big-wall-climbing-seminar/activities/aid-big-wall-field-trip-utw-multipl
 e-weekends-scheduled-students-register-for-both-dates-on-a-single-weekend-
 upper-town-wall-2
END:VEVENT
END:VCALENDAR
